BEGIN:VCALENDAR
VERSION:2.0
PRODID:-//Jonge Balie Den Haag//Outlook 12.0 MIMEDIR//EN
METHOD:PUBLISH
BEGIN:VEVENT
DTSTAMP:20260422T110539
DTSTART:20260310T0900000
DTEND:20260310T170000
LOCATION:Paleis van Justitie, Prins Clauslaan 60 te Den Haag
SUMMARY;LANGUAGE=en-us:Pleitoefeningen voorjaar 2026
DESCRIPTION:Als advocaat-stagiair(e) ben je verplicht eenmaal de pleitoefeningen met goed gevolg afleggen. De pleitoefeningen worden tweemaal per jaar gehouden en dien je uiterlijk in het tweede jaar van je stage af te leggen.&nbsp;&nbsp;

&nbsp;
De pleitoefeningen zijn onderverdeeld in de rechtsgebieden civiel recht, bestuursrecht en strafrecht. Zowel de inhoud als de presentatie zal worden beoordeeld. Het bestuur drukt de deelnemers op het hart om voldoende tijd vrij te maken voor de voorbereiding van de pleitoefeningen.&nbsp;
&nbsp;
Degenen&nbsp;die zich hebben aangemeld horen begin februari 2026 of en, zo ja, wanneer zij zijn ingedeeld.&nbsp;Als je geplaatst bent voor de pleitoefeningen, zal de casus ongeveer twee weken voorafgaand aan de pleitoefeningen aan je worden toegezonden. Hiervoor wordt het e-mailadres gebruikt dat je invult op het aanmeldformulier.&nbsp;
&nbsp;
Let op: iedere advocaat-stagiair(e) dient zich uit eigen beweging aan te melden en&nbsp;aanmelding is bindend. Als je je eenmaal hebt aangemeld, is het niet mogelijk om je nog terug te trekken. Dit heeft met name te maken met de beschikbaarheid van de juryleden.
&nbsp;
Het is inmiddels niet meer mogelijk om je aan te melden voor de Pleitoefeningen voorjaar 2026.

END:VEVENT
END:VCALENDAR
