BEGIN:VCALENDAR
VERSION:2.0
PRODID:-//Jonge Balie Den Haag//Outlook 12.0 MIMEDIR//EN
METHOD:PUBLISH
BEGIN:VEVENT
DTSTAMP:20260423T105046
DTSTART:20260422T190000
DTEND:20260422T203000
LOCATION:Online
SUMMARY;LANGUAGE=en-us:Tentamentraining Ethiek
DESCRIPTION:De training wordt verzorgd door Opus Opleidingen (bijlesberoepsopleiding.nl) Tijdens de training wordt de theorie die van belang is voor de toets behandeld. Er zijn geen kosten aan de training verbonden.
&nbsp;
Aanmelding via onderstaande link. Het volgen van de training levert &eacute;&eacute;n lezingspunt op. Op aanwezigheid en attentie wordt gecontroleerd.
END:VEVENT
END:VCALENDAR
