BEGIN:VCALENDAR
VERSION:2.0
PRODID:-//Jonge Balie Den Haag//Outlook 12.0 MIMEDIR//EN
METHOD:PUBLISH
BEGIN:VEVENT
DTSTAMP:20260419T143334
DTSTART:20260520T150000
DTEND:20260520T173000
LOCATION:Madurodam, Den Haag
SUMMARY;LANGUAGE=en-us:Seminar "Van Warschau tot Washington - lessen in waakzaamheid voor de rechtsstaat"
DESCRIPTION:Tijdens deze middag staan actuele en concrete ontwikkelingen centraal die laten zien hoe kwetsbaar de rechtsstaat kan zijn &mdash; ook in landen met een sterke democratische traditie. Ervaringen uit onder andere Polen en de Verenigde Staten tonen hoe snel fundamentele rechtsstatelijke waarborgen onder druk kunnen komen te staan.
&nbsp;
Wat betekenen deze ontwikkelingen voor ons? En welke rol speelt de advocaat in het beschermen van rechtsstatelijke waarden?
&nbsp;
Waarom u dit seminar niet wilt missen

Inzichten van internationale en nationale experts
Concrete lessen uit recente ontwikkelingen in o.a. Polen en de VS
Reflectie op de rol van de advocatuur in het publieke debat
Ruimte voor dialoog, vragen en uitwisseling

&nbsp;
Centrale vragen

Wat kunnen wij leren van collega&rsquo;s in andere rechtsstaten?
Hoe gaan advocaten om met druk op hun onafhankelijke beroepsuitoefening?
Welke verantwoordelijkheid dragen wij in Nederland?

&nbsp;
Programma
&nbsp;
15:00 &ndash; 15:30 | Inloop &amp; ontvangst en de mogelijkheid om Madurodam te bezoeken
15:30 &ndash; 15:40 | Opening door de Haagse Orde van Advocaten
15:40 &ndash; 15:55 | Keynote spreker prof. J.P. (Jan) Broekhuizen (hoogleraar Advocatuur, UvA)
15:55 &ndash; 16:20 | Theaterstuk over de rechtsstaat 16:20 &ndash; 17:20 | Panelgesprek en Q&amp;A
&nbsp;
Let op: het panelgesprek wordt in het Engels gevoerd.

Rachel A. Cohen, advocaat bij Lowell and Associates uit de Verenigde Staten,
Katarzyna Gajowniczek-Pruszynska, Deken van de Orde van Advocaten in Warschau
Sylwia Gregorczyk-Abram, advocaat, medeoprichter van de Free Courts Foundation en mensenrechtenverdediger uit Polen.

17:20 &ndash; 17:30 | Afsluiting &amp; call to action door de moderators 17:30 &ndash; 18:30 | Netwerkborrel met gelegenheid tot napraten en bezoek aan Madurodam
&nbsp;
Praktische informatie
Deelname aan het seminar en de borrel is kosteloos en wordt u aangeboden door de Haagse Orde van Advocaten. U kunt 2 PO-punten (juridisch) of 1 Jonge Balie-lezingpunt behalen
&nbsp;
Wilt u hiervoor in aanmerking komen? Zorg er dan voor dat u zowel v&oacute;&oacute;r als na afloop van het seminar een handtekening plaatst op de aanwezige lijsten.
&nbsp;
Aanmelden kan via de link.
END:VEVENT
END:VCALENDAR
